BEGIN:VCALENDAR
VERSION:2.0
PRODID:icalendar-ruby
CALSCALE:GREGORIAN
METHOD:PUBLISH
BEGIN:VEVENT
DTSTAMP:20260422T121940Z
UID:10-880526@bartlettwoods.org
DTSTART:20261025T223000Z
DTEND:20261025T233000Z
CLASS:PUBLIC
CREATED:20260422T070015
DESCRIPTION:
LAST-MODIFIED:20260422T070015
LOCATION:Bartlett Woods church of Christ
SUMMARY:Sunday Evening Service
URL;VALUE=URI:https://www.bartlettwoods.org/events/sunday-evening-service/2
 026-10-25
ATTACH;FILENAME=Sunday-Morning-Bible-Class.jpg;FMTTYPE=image/jpeg:https://d
 q5pwpg1q8ru0.cloudfront.net/2023/12/06/11/24/24/d8d2bc77-abe0-45a8-a049-e8
 f15ae8d10e/Sunday-Morning-Bible-Class.jpg
END:VEVENT
END:VCALENDAR
