BEGIN:VCALENDAR
VERSION:2.0
PRODID:icalendar-ruby
CALSCALE:GREGORIAN
METHOD:PUBLISH
BEGIN:VEVENT
DTSTAMP:20260422T152815Z
UID:6-880670@bartlettwoods.org
DTSTART:20260920T140000Z
DTEND:20260920T150000Z
CLASS:PUBLIC
CREATED:20260422T095509
DESCRIPTION:
LAST-MODIFIED:20260422T095509
LOCATION:Bartlett Woods church of Christ
SUMMARY:Sunday Morning Bible Class
URL;VALUE=URI:https://www.bartlettwoods.org/events/sunday-morning-bible-cla
 ss/2026-09-20
ATTACH;FILENAME=1.jpg;FMTTYPE=image/jpeg:https://dq5pwpg1q8ru0.cloudfront.n
 et/2023/12/06/11/19/16/cb0cd4e7-a123-4c2f-a4df-5e6cf64ff699/1.jpg
END:VEVENT
END:VCALENDAR
