BEGIN:VCALENDAR
VERSION:2.0
PRODID:icalendar-ruby
CALSCALE:GREGORIAN
METHOD:PUBLISH
BEGIN:VEVENT
DTSTAMP:20260424T203407Z
UID:7-891243@bartlettwoods.org
DTSTART:20260927T150000Z
DTEND:20260927T161500Z
CLASS:PUBLIC
CREATED:20260424T152915
DESCRIPTION:
LAST-MODIFIED:20260424T152915
LOCATION:Bartlett Woods church of Christ
SUMMARY:Sunday Morning Worship Service
URL;VALUE=URI:https://www.bartlettwoods.org/events/sunday-morning-worship-s
 ervice/2026-09-27
ATTACH;FILENAME=4.jpg;FMTTYPE=image/jpeg:https://dq5pwpg1q8ru0.cloudfront.n
 et/2023/12/06/11/20/30/f23f5ccf-f8a1-494a-8bdf-0ab9b85a64db/4.jpg
END:VEVENT
END:VCALENDAR
