BEGIN:VCALENDAR
VERSION:2.0
PRODID:icalendar-ruby
CALSCALE:GREGORIAN
METHOD:PUBLISH
BEGIN:VEVENT
DTSTAMP:20260421T224902Z
UID:8-878737@bartlettwoods.org
DTSTART:20260909T200000Z
DTEND:20260909T210000Z
CLASS:PUBLIC
CREATED:20260421T171710
DESCRIPTION:
LAST-MODIFIED:20260421T171710
LOCATION:Bartlett Woods church of Christ
SUMMARY:Wednesday Afternoon Bible Class
URL;VALUE=URI:https://www.bartlettwoods.org/events/wednesday-afternoon-bibl
 e-class/2026-09-09
ATTACH;FILENAME=3.jpg;FMTTYPE=image/jpeg:https://dq5pwpg1q8ru0.cloudfront.n
 et/2023/12/06/11/21/03/13960876-fa2e-4bcd-ad39-e622b053f926/3.jpg
END:VEVENT
END:VCALENDAR
